BEGIN:VCALENDAR
VERSION:2.0
PRODID:-//ChamberMaster//Event Calendar 2.0//EN
METHOD:PUBLISH
X-PUBLISHED-TTL:P3D
REFRESH-INTERVAL:P3D
CALSCALE:GREGORIAN
BEGIN:VEVENT
DTSTART:20241019T160000Z
DTEND:20241019T163000Z
X-MICROSOFT-CDO-ALLDAYEVENT:FALSE
SUMMARY:Prestige D'zel Diagnostics and Repair Ribbon Cutting
DESCRIPTION:Join us for Prestige D'zel Diagnostics and Repair Ribbon Cutting
X-ALT-DESC;FMTTYPE=text/html:Join us for Prestige D&#39\;zel Diagnostics and Repair Ribbon Cutting
LOCATION:510 W Marland
UID:e.270.5175
SEQUENCE:3
DTSTAMP:20260425T012614Z
URL:https://business.hobbschamber.org/events/details/prestige-d-zel-diagnostics-and-repair-ribbon-cutting-5175
END:VEVENT

END:VCALENDAR
