BEGIN:VCALENDAR
VERSION:2.0
PRODID:-//ChamberMaster//Event Calendar 2.0//EN
METHOD:PUBLISH
X-PUBLISHED-TTL:P3D
REFRESH-INTERVAL:P3D
CALSCALE:GREGORIAN
BEGIN:VEVENT
DTSTART;VALUE=DATE:20240927
DTEND;VALUE=DATE:20241010
TRANSP:TRANSPARENT
X-MICROSOFT-CDO-ALLDAYEVENT:TRUE
SUMMARY:Creepy Creations art show
DESCRIPTION:LCCA is hosting "Creepy Creations\," a horror-themed art contest. You can start submitting your artwork from now until October 9th\, and judging will be held on October 11th. The entry fee is $10\, which can be paid when you drop off the artwork. There will be a prize for 1st\, 2nd\, and 3rd place.\n\nClick this link for more details.\n\n\n\nhttps://www.flipsnack.com/.../creepy.../full-view.html
X-ALT-DESC;FMTTYPE=text/html:<div>\n<div>LCCA is hosting &quot\;Creepy Creations\,&quot\; a horror-themed art contest. You can start submitting your artwork from now until October 9th\, and judging will be held on October 11th. The entry fee is $10\, which can be paid when you drop off the artwork. There will be a prize for 1st\, 2nd\, and 3rd place.<br />\nClick this link for more details.</div>\n</div>\n\n<div>\n<div><span style="font-family:inherit"><a class="x1i10hfl xjbqb8w x1ejq31n xd10rxx x1sy0etr x17r0tee x972fbf xcfux6l x1qhh985 xm0m39n x9f619 x1ypdohk xt0psk2 xe8uvvx xdj266r x11i5rnm xat24cr x1mh8g0r xexx8yu x4uap5 x18d9i69 xkhd6sd x16tdsg8 x1hl2dhg xggy1nq x1a2a7pz x1sur9pj xkrqix3 x1fey0fg x1s688f" href="https://www.flipsnack.com/7CAEBECC5A8/creepy-creations-2024-hj0gf3jzhm/full-view.html?fbclid=IwZXh0bgNhZW0CMTAAAR0xw9iZrycu8vkXDolpobQ0dq8LsM1j5z9iUt4dga4UHu3KzsnFO_Mv2-k_aem_0QHLh__CBrzpVHOLrPfXdg" rel="nofollow noreferrer" style="color: var(--blue-link)\; cursor: pointer\; text-decoration-line: none\; list-style: none\; margin: 0px\; text-align: inherit\; border-style: none\; padding: 0px\; box-sizing: border-box\; border-width: 0px\; outline: none\; -webkit-tap-highlight-color: transparent\; font-weight: 600\; touch-action: manipulation\; background-color: transparent\; display: inline\; font-family: inherit\;" tabindex="0" target="_blank">https://www.flipsnack.com/.../creepy.../full-view.html</a></span></div>\n</div>\n
LOCATION:122 W. Broadway Hobbs NM 88240
UID:e.270.5179
SEQUENCE:3
DTSTAMP:20260425T012411Z
URL:https://business.hobbschamber.org/events/details/creepy-creations-art-show-09-27-2024-5179
END:VEVENT

END:VCALENDAR
