BEGIN:VCALENDAR
VERSION:2.0
PRODID:-//ChamberMaster//Event Calendar 2.0//EN
METHOD:PUBLISH
X-PUBLISHED-TTL:P3D
REFRESH-INTERVAL:P3D
CALSCALE:GREGORIAN
BEGIN:VEVENT
DTSTART:20250711T223000Z
DTEND:20250711T230000Z
X-MICROSOFT-CDO-ALLDAYEVENT:FALSE
SUMMARY:Black Gold Distilling Ribbon Cutting
DESCRIPTION:Ribbon Cutting \n\nGrand Opening\n\nBlack Gold Distilling
X-ALT-DESC;FMTTYPE=text/html:Ribbon Cutting&nbsp\;<br />\nGrand Opening<br />\nBlack Gold Distilling
LOCATION:1010 W. Joe Harvey Blvd. Hobbs\, NM 88240
UID:e.270.5243
SEQUENCE:3
DTSTAMP:20260420T084300Z
URL:https://business.hobbschamber.org/events/details/black-gold-distilling-ribbon-cutting-5243
END:VEVENT

END:VCALENDAR
